BEGIN:VCALENDAR
VERSION:2.0
PRODID:-//University Of Lagos - ECPv6.15.20//NONSGML v1.0//EN
CALSCALE:GREGORIAN
METHOD:PUBLISH
X-ORIGINAL-URL:https://unilag.edu.ng
X-WR-CALDESC:Events for University Of Lagos
REFRESH-INTERVAL;VALUE=DURATION:PT1H
X-Robots-Tag:noindex
X-PUBLISHED-TTL:PT1H
BEGIN:VTIMEZONE
TZID:Africa/Lagos
BEGIN:STANDARD
TZOFFSETFROM:+0100
TZOFFSETTO:+0100
TZNAME:WAT
DTSTART:20240101T000000
END:STANDARD
END:VTIMEZONE
BEGIN:VEVENT
DTSTART;TZID=Africa/Lagos:20250501T080000
DTEND;TZID=Africa/Lagos:20250711T170000
DTSTAMP:20260423T155751
CREATED:20250506T153625Z
LAST-MODIFIED:20250506T155412Z
UID:52497-1746086400-1752253200@unilag.edu.ng
SUMMARY:Get Ready! BITE 3.0 is Here for Your Big Ideas to Take Flight!
DESCRIPTION:The Entrepreneurship and Skills Development Centre (ESDC) of the University of Lagos (UNILAG) in partnership with the Oladele Fajemirokun Foundation (OFF) is thrilled to announce the return of the Business Innovation & Talent Expression (BITE)\, now in its third (3rd) edition! \nThis is not your regular competition! BITE 3.0 is a launchpad for tomorrow’s innovators\, creators\, and change-makers. \nSo dear UNILAG students\, be you in your undergraduate (Regular/DLI/ICE)\, Masters\, or PhD studies\, so long you’ve got a brilliant business idea or a budding start-up\, this is your moment to shine! \nNeed More Reasons To Apply for BITE 3.0? \nIn this 3rd edition\, about 200 outstanding business ideas/start-ups will gain access to: \n\nFree registration and incorporation of their businesses\nFree holistic Intellectual Property (IP) support\, including patenting\, trade name\, and trade-mark protection\nInterest-free seed loans of up to ₦2\,000\,000 (courtesy of the Bank of Industry)\nExpert mentorship and coaching\nFree entry into the prestigious BOI-UNILAG Hub\n\nGrand Prizes to Watch Out For? \n1st BITE: ₦2\,000\,000 \n2nd BITE: ₦1\,200\,000 \n3rd BITE: ₦750\,000 \nMark the Following Key Dates in Your Calendar NOW: \n\nApplications Open:Thursday\, May 1\, 2025\nDeadline for Submission:Wednesday\, May 21\, 2025\nAnnouncement of Successful Applicants:Saturday\, May 31\, 2025\nCompulsory Training for Applicants:1st – 5th June\, 2025\n1stLevel Pitching: 16th – 20th June\, 2025\n2ndLevel Pitching: Monday\, June 30 – Friday\, July 4\, 2025\nGrand Finale:Friday\, July 11\, 2025\n\nHow to Apply for BITE 3.0? \nIt’s simple! Just fill out this application form —-> https://bit.ly/BITE3-ESDC \nFor more information\, visit the ESDC Office located behind the Creative Arts Department\, in the Faculty of Social Sciences premises\, University of Lagos. \nAre you still sitting on the fence with that gold mine in you? Well guess what? Time is of the essence! \nApply today and don’t miss this incredible opportunity to turn your ideas into impactful ventures.
URL:https://unilag.edu.ng/event/get-ready-bite-3-0-is-here-for-your-big-ideas-to-take-flight/
CATEGORIES:Challenges,Competitions,ESDC
ATTACH;FMTTYPE=image/png:https://unilag.edu.ng/wp-content/uploads/2025/05/Get-Ready-BITE-3.0-is-Here-for-Your-Big-Ideas-to-Take-Flight.png
END:VEVENT
BEGIN:VEVENT
DTSTART;TZID=Africa/Lagos:20250602T100000
DTEND;TZID=Africa/Lagos:20250602T143000
DTSTAMP:20260423T155751
CREATED:20250529T115108Z
LAST-MODIFIED:20250529T115158Z
UID:56002-1748858400-1748874600@unilag.edu.ng
SUMMARY:When the Body Whispers New Stories: KAAF Specialist Hospital Holds Quarterly Health Information Webinar\, June 2
DESCRIPTION:The Kesington Adebukunola Adebutu Foundation (KAAF) Specialist Hospital is set to host its Health Information Webinar for the second (2nd) quarter of the year 2025 as scheduled below: \nDate: Monday\, June 2\, 2025\nTime: 10:00 a.m.\nZoom Meeting URL: https://bit.ly/KAAFWebinar2https://bit.ly/KAAFWebinar2\nTheme: Embracing the Beauty of Aging: Perimenopause and Menopause \nAs a woman\, there comes a point in time when your rhythm shifts. It may present as a warm flush\, a racing heart\, or a sudden change you just can’t explain. And then you wonder and even perhaps worry that: “is it just me?” \nGuess what? It’s not just you. You are not weird or alone and there is no cause for alarm. Perimenopause and menopause are natural seasons in every woman’s life. It is not an ending\, but a powerful becoming. \nStill\, the journey can feel lonely when no one talks about it. So\, this edition of the KAAF Specialist Hospital Health Information Webinar opens the conversation on this crucial topic. \nDr Adesumbo Odeseye\, Consultant Obstetrician/Gynaecologist & Medical Director\, KAAF Specialist Hospital and Mrs Oluwatoyin Aremu\, Librarian\, Institutional Repository\, UNILAG will explore what’s happening\, what helps\, and why you’re not alone with clarity\, compassion\, and care. \nYou are welcome to leave questions you specifically need answered in the comments or email them to kaafmlmclagos@outlook.com\, ahead of the webinar. \nSave the date to join this insightful webinar.\nCome as you are.\nLeave informed\, equipped\, and unafraid!
URL:https://unilag.edu.ng/event/when-the-body-whispers-new-stories-kaaf-specialist-hospital-holds-quarterly-health-information-webinar-june-2/
CATEGORIES:Discussions,Webinar
ATTACH;FMTTYPE=image/png:https://unilag.edu.ng/wp-content/uploads/2025/02/Upcoming-Events-UNILAG-Nigeria-2025-light-1.png
END:VEVENT
END:VCALENDAR