BEGIN:VCALENDAR
VERSION:2.0
PRODID:-//University Of Lagos - ECPv6.15.20//NONSGML v1.0//EN
CALSCALE:GREGORIAN
METHOD:PUBLISH
X-WR-CALNAME:University Of Lagos
X-ORIGINAL-URL:https://unilag.edu.ng
X-WR-CALDESC:Events for University Of Lagos
REFRESH-INTERVAL;VALUE=DURATION:PT1H
X-Robots-Tag:noindex
X-PUBLISHED-TTL:PT1H
BEGIN:VTIMEZONE
TZID:Africa/Lagos
BEGIN:STANDARD
TZOFFSETFROM:+0100
TZOFFSETTO:+0100
TZNAME:WAT
DTSTART:20240101T000000
END:STANDARD
END:VTIMEZONE
BEGIN:VEVENT
DTSTART;TZID=Africa/Lagos:20251008T100000
DTEND;TZID=Africa/Lagos:20251008T170000
DTSTAMP:20260421T210146
CREATED:20250926T075122Z
LAST-MODIFIED:20250926T081640Z
UID:62584-1759917600-1759942800@unilag.edu.ng
SUMMARY:Botany @ 60: Celebrating Six Decades of Green Discovery and Scientific Impact
DESCRIPTION:The Department of Botany\, University of Lagos (UNILAG) is set to celebrate its 60th Anniversary\, from Wednesday\, October 8 to Thursday\, October 9\, 2025\, at 10:00 a.m. daily at the Julius Berger Hall\, UNILAG\, Akoka. \nThe two-day celebration\, themed: ” Botany @ 60 – The Impact\, Challenge and Future”\, will highlight six decades of green discovery\, trailblazing research\, and dedicated service to science and society. It will feature a series of impactful activities\, including: \nDay 1: Exhibitions and Networking Sessions; \nDay 2: Keynote Presentation by Dr. Oluwarotimi Fashola (Special Adviser to the Governor of Lagos State on Agriculture and Food Systems) and Panel Discussions \nMembers of the University community and general public are cordially invited to be part of this historic occasion which will bring together distinguished scholars\, alumni\, industry stakeholders\, and students to reflect on the Department’s legacy\, examine current challenges in the field\, and chart a visionary path for the future of botanical sciences in Nigeria and beyond. \nFor further details and sponsorship enquiries\, please contact Prof. Temitope O. Onuminya (Chairperson\, Organizing Committee) via: +2347030241452 \n 
URL:https://unilag.edu.ng/event/botany-60-celebrating-six-decades-of-green-discovery-and-scientific-impact/
LOCATION:Julius Berger Hall\, University of Lagos
CATEGORIES:Conference,Faculty of Science,UNILAG General Events
ATTACH;FMTTYPE=image/jpeg:https://unilag.edu.ng/wp-content/uploads/2025/09/IMG-20250926-WA0006.jpg
END:VEVENT
BEGIN:VEVENT
DTSTART;TZID=Africa/Lagos:20251010T100000
DTEND;TZID=Africa/Lagos:20251010T160000
DTSTAMP:20260421T210146
CREATED:20250929T170701Z
LAST-MODIFIED:20250929T171236Z
UID:62700-1760090400-1760112000@unilag.edu.ng
SUMMARY:OWSD\, UNILAG Celebrates 2025 International Day of the Girl Child\, October 10
DESCRIPTION:The Organisation for Women in Science for the Developing World (OWSD)\, University of Lagos (UNILAG) Branch will commemorate the 2025 International Day of the Girl Child as follows: \nDate: Friday\, October 10\, 2025\nTime: 10:00 a.m.\nVenue: Design Studio\, Faculty of Social Sciences\, UNILAG\, Akoka. \nZoom Meeting ID: 818 2666 2138\nPasscode: OWSD \nThe event\, with the theme\, “Girls on the Frontlines: Leading Crisis Response with Digital Technology”\, will feature guest speeches by two (2) remarkable women: \n\nEngr. Flora Omolara Olumakin\, Chairman\, Compliance Committee\, Nigeria Computer Society (NCS) and Founder\, Flora Olumakin\nMrs Toluwaleke Oluyemi Adenmosun\, Senior Partner\, Services at Verraki\n\nOWSD\, UNILAG Chapter\, Nigeria\, is a dedicated team of educators\, researchers\, and advocates committed to nurturing the next generation of scientific thinkers. \nJoin the celebration physically or virtually! See you there!
URL:https://unilag.edu.ng/event/owsd-unilag-celebrates-2025-international-day-of-the-girl-child-october-10/
LOCATION:UNILAG RICE 360 Design Studio\, Faculty of Social Sciences\, Nigeria
CATEGORIES:Commemoration,UNILAG General Events
ATTACH;FMTTYPE=image/jpeg:https://unilag.edu.ng/wp-content/uploads/2025/09/OWSD-UNILAG-Celebrates-2025-International-Day-of-the-Girl-Child-October-10.jpeg
END:VEVENT
BEGIN:VEVENT
DTSTART;TZID=Africa/Lagos:20251011T100000
DTEND;TZID=Africa/Lagos:20251011T140000
DTSTAMP:20260421T210146
CREATED:20250904T172802Z
LAST-MODIFIED:20250904T172802Z
UID:61636-1760176800-1760191200@unilag.edu.ng
SUMMARY:OCDS-UNILAG holds ASCENT Career Clinic 2025\, Sept. 20 & Oct. 11
DESCRIPTION:The Office of Career Development Services (OCDS)\, University of Lagos (UNILAG) in collaboration with Nigeria National Petroleum Company Limited (NNPC) and Shell Nigeria Exploration and Production Company Limited (SNEPCo) is set to host ASCENT Career Clinic 2025\, a career development program. \nWith the theme: Career Readiness Skills for the Real World\, the progam will commence with a pre-event virtual hangout on Saturday\, September 20\, 2025. The main event will hold on Saturday\, October 11\, 2025 at at 10:00 a.m. (WAT) at the UNILAG Design Studio\, Akoka. \nInterested members of the university community (particularly female students) are encouraged to register to attend ASCENT Career Clinic 2025 via: https://forms.gle/eX3bUZq6jsTW3MoAA
URL:https://unilag.edu.ng/event/ocds-unilag-holds-ascent-career-clinic-2025-sept-20-oct-11/
CATEGORIES:UNILAG General Events
ATTACH;FMTTYPE=image/png:https://unilag.edu.ng/wp-content/uploads/2025/02/Upcoming-Events-UNILAG-Nigeria-2025-light.png
END:VEVENT
BEGIN:VEVENT
DTSTART;TZID=Africa/Lagos:20251011T100000
DTEND;TZID=Africa/Lagos:20251011T150000
DTSTAMP:20260421T210146
CREATED:20250908T125258Z
LAST-MODIFIED:20250908T133655Z
UID:61702-1760176800-1760194800@unilag.edu.ng
SUMMARY:OCDS-UNILAG holds ASCENT Career Clinic 2025\, Sept. 20 & Oct. 11
DESCRIPTION:The Office of Career Development Services (OCDS)\, University of Lagos (UNILAG) in collaboration with Nigeria National Petroleum Company Limited (NNPC) and Shell Nigeria Exploration and Production Company Limited (SNEPCo) is set to host ASCENT Career Clinic 2025\, a career development program. \nWith the theme: Career Readiness Skills for the Real World\, the progam will commence with a pre-event virtual hangout on Saturday\, September 20\, 2025. The main event will hold on Saturday\, October 11\, 2025 at 10:00 a.m. (WAT) at the UNILAG Design Studio\, Akoka. \nInterested members of the university community (particularly female students) are encouraged to register to attend ASCENT Career Clinic 2025 via: https://forms.gle/eX3bUZq6jsTW3MoAA
URL:https://unilag.edu.ng/event/ocds-unilag-holds-ascent-career-clinic-2025-sept-20-oct-11-2/
CATEGORIES:UNILAG General Events
ATTACH;FMTTYPE=image/jpeg:https://unilag.edu.ng/wp-content/uploads/2025/09/ASCENT-Career-Clinic-2025-1.jpeg
END:VEVENT
BEGIN:VEVENT
DTSTART;VALUE=DATE:20251013
DTEND;VALUE=DATE:20251018
DTSTAMP:20260421T210146
CREATED:20250814T150820Z
LAST-MODIFIED:20250814T150948Z
UID:60430-1760313600-1760745599@unilag.edu.ng
SUMMARY:2025 UNILAG International Week Holds\, Oct. 13 – 17
DESCRIPTION:The 2025 University of Lagos (UNILAG) International Week will hold from Monday\, October 13 to Friday\, October 17\, 2025\, with the theme: Equitable Partnerships and the Future of AI in Africa. \nThe annual UNILAG International Week is a flagship platform for dialogue\, networking and strategic engagement with academic institutions\, industry partners\, policymakers and wider public. With a line up of activities such as keynote lectures\, panel discussions\, exhibitions\, cultural showcases and interactive workshops\, the theme for this year’s edition is a reflection of the University’s commitment to fostering balanced global collaborations while exploring the transformative potential of artificial intelligence in shaping Africa’s future. \nMembers of university community and general public are invited to save the date and plan to participate in the 2025 UNILAG International Week. For further details and enquiries\, please contact the Office of International Relations\, Partnerships & Prospects\, UNILAG (IRPP\, UNILAG) via inter_rel@unilag.edu.ng
URL:https://unilag.edu.ng/event/2025-unilag-international-week-holds-oct-13-17/
CATEGORIES:Summit,UNILAG General Events
ATTACH;FMTTYPE=image/png:https://unilag.edu.ng/wp-content/uploads/2025/02/Upcoming-Events-UNILAG-Nigeria-2025-light-1.png
END:VEVENT
BEGIN:VEVENT
DTSTART;TZID=Africa/Lagos:20251015T160000
DTEND;TZID=Africa/Lagos:20251015T170000
DTSTAMP:20260421T210146
CREATED:20251010T175401Z
LAST-MODIFIED:20251013T084812Z
UID:63236-1760544000-1760547600@unilag.edu.ng
SUMMARY:Prof. Niemogha Delivers 25th Inaugural Lecture\, Oct. 15
DESCRIPTION:Professor Mary-Theresa Akpoveta-Niemogha of the Department of Medical Laboratory Science\, Faculty of Basic Medical Sciences\, College of Medicine\, University of Lagos (UNILAG) will deliver the twenty-fifth (25th) Inaugural Lecture of the 2024/2025 Academic Session on Wednesday\, October 15\, 2025\, at 4:00 p.m. (Guests are to be seated by 3:45 p.m.) at the J. F. Ade Ajayi Auditorium\, UNILAG\, Akoka. \nThe Vice-Chancellor\, Professor Folasade T. Ogunsola\, OON\, FAS\, will preside over the Lecture titled: Microbes Everywhere: How Safe? Resolution in the “Dynamism” of Bacteria in the Microscopic World and in Health Biotechnology. \nMembers of the University community and general public are cordially invited to join physically or virtually via \nZoom URL: https://bit.ly/NEIMOGHA \nMeeting ID: 898 2013 7659\nPasscode: 387234
URL:https://unilag.edu.ng/event/prof-niemogha-delivers-25th-inaugural-lecture-oct-15/
CATEGORIES:UNILAG General Events
ATTACH;FMTTYPE=image/jpeg:https://unilag.edu.ng/wp-content/uploads/2025/10/IMG-20251011-WA0010.jpg
END:VEVENT
BEGIN:VEVENT
DTSTART;TZID=Africa/Lagos:20251016T160000
DTEND;TZID=Africa/Lagos:20251016T180000
DTSTAMP:20260421T210146
CREATED:20251009T152243Z
LAST-MODIFIED:20251009T153640Z
UID:63102-1760630400-1760637600@unilag.edu.ng
SUMMARY:2025 UNILAG Int’l Week: UNILAG-Open Al Fireside Chat holds\, Oct. 16
DESCRIPTION:As part of activities scheduled for the 2025 University of Lagos (UNILAG) International Week\, the University will hold an interactive session tagged “UNILAG-Open AI Fireside Chat” on Thursday\, October 16\, 2025 from 4:00p.m. to 6:00p.m. at the J. F. Ade. Ajayi Auditorium\, University of Lagos. \nThe University will host Africa Lead at Open Al\, Emmanuel Lubanzadio\, who will discuss how Artificial Intelligence is transforming learning\, creativity\, and innovation in Africa. \nMembers of the University community and general public are cordially invited to register via https://bit.ly/OpenAIAcademyUNILAG to attend.
URL:https://unilag.edu.ng/event/2025-unilag-intl-week-unilag-open-al-fireside-chat-holds-oct-16/
LOCATION:J.F. Ade. Ajayi Auditorium\, UNILAG\, Akoka\, Lagos\, 101017\, Nigeria
CATEGORIES:UNILAG General Events
ATTACH;FMTTYPE=image/jpeg:https://unilag.edu.ng/wp-content/uploads/2025/10/UNILAG-Open-AI-Fireside-Chat-2.jpg
END:VEVENT
BEGIN:VEVENT
DTSTART;TZID=Africa/Lagos:20251031T110000
DTEND;TZID=Africa/Lagos:20251031T170000
DTSTAMP:20260421T210146
CREATED:20251028T140403Z
LAST-MODIFIED:20251028T140521Z
UID:64307-1761908400-1761930000@unilag.edu.ng
SUMMARY:Entrepreneurship Hangout 1.0 Holds\, October 31
DESCRIPTION:Entrepreneurship Hangout 1.0\, an event for students (undergraduate and postgraduate) as well as other members of the university community interested in self-employment and entrepreneurship\, will hold on Friday\, October 31\, 2025 at 11:00a.m. at the Tayo Aderinokun Lecture Theatre\, University of Lagos (UNILAG). \nOrganised by the Occupier Professor of Dr. Mike Adenuga Professorial Chair in Entrepreneurship Studies\, UNILAG\, Prof. Olufemi O. Olayemi in partnership with the UNILAG MBA Students’ Association\, the event is part of efforts aimed at developing the entrepreneurial ecosystem of the University. \nEntrepreneurship Hangout 1.0 will feature activities that will empower participants with practical insights and actionable steps to foster innovation as well as collaboration and networking with practicing entrepreneurs.
URL:https://unilag.edu.ng/event/entrepreneurship-hangout-1-0-holds-october-31/
LOCATION:Tayo Aderinokun Lecture Theatre\, UNILAG\, Unilag\, Akoka\, Lagos\, Nigeria
CATEGORIES:UNILAG General Events
ATTACH;FMTTYPE=image/png:https://unilag.edu.ng/wp-content/uploads/2025/02/Upcoming-Events-UNILAG-Nigeria-2025-light-1.png
END:VEVENT
END:VCALENDAR