BEGIN:VCALENDAR
VERSION:2.0
PRODID:-//University Of Lagos - ECPv6.15.20//NONSGML v1.0//EN
CALSCALE:GREGORIAN
METHOD:PUBLISH
X-ORIGINAL-URL:https://unilag.edu.ng
X-WR-CALDESC:Events for University Of Lagos
REFRESH-INTERVAL;VALUE=DURATION:PT1H
X-Robots-Tag:noindex
X-PUBLISHED-TTL:PT1H
BEGIN:VTIMEZONE
TZID:Africa/Lagos
BEGIN:STANDARD
TZOFFSETFROM:+0100
TZOFFSETTO:+0100
TZNAME:WAT
DTSTART:20250101T000000
END:STANDARD
END:VTIMEZONE
BEGIN:VEVENT
DTSTART;TZID=Africa/Lagos:20260317T080000
DTEND;TZID=Africa/Lagos:20260317T170000
DTSTAMP:20260421T180604
CREATED:20260317T170824Z
LAST-MODIFIED:20260317T170824Z
UID:71203-1773734400-1773766800@unilag.edu.ng
SUMMARY:AMSA\, WHO (Africa Region) holds Hybrid Medical Education Conference\, March 26 - 29
DESCRIPTION:Association of Medical Schools in Africa (AMSA) in partnership with World Health Organization (Africa Region) will hold a hybrid Medical Education Conference from Thursday\, March 26 to Sunday\, March 29\, 2026 at Marriott Lagos Hotel\, Lagos\, Nigeria. \nThe Conference with the theme: “Increasing Capacity and Retention of the Global Health Workforce” will also feature Faculty Development pre-conference workshops slated for Monday\, March 23 to Wednesday\, March 25\, 2026. \nInterested members of the university community are encouraged to register for the conference and pre-conference workshops\, FREE\, via www.amsafricaconference.org on or before Friday\, March 20\, 2026.
URL:https://unilag.edu.ng/event/amsa-who-africa-region-holds-hybrid-medical-education-conference-march-26-29/
CATEGORIES:Conferences
END:VEVENT
BEGIN:VEVENT
DTSTART;TZID=Africa/Lagos:20260318T110000
DTEND;TZID=Africa/Lagos:20260318T130000
DTSTAMP:20260421T180604
CREATED:20260316T123633Z
LAST-MODIFIED:20260316T123633Z
UID:71135-1773831600-1773838800@unilag.edu.ng
SUMMARY:UNILAG Hosts LSE’s Global Goals Roundtables\, March 18
DESCRIPTION:The University of Lagos (UNILAG) will host the London School of Economics and Political Science (LSE) as scheduled below:\n\n \n\nDate: Wednesday\, March 18\, 2026\nTime: 11:00 a.m. – 1:00 p.m.\nVenue: Design Studio\, Faculty of Social Science\, UNILAG\nTheme: The Global Goals Roundtables: Co-creating Sustainable Futures for Africa\n\n \n\nThe event will feature:\n•⁠ ⁠a Presidential Keynote to be delivered by Professor Larry Kramer\, President and Vice Chancellor\, LSE\n•⁠ ⁠⁠Roundtable discussions\n•⁠ ⁠⁠Shared group reflections\n•⁠ ⁠⁠Networking\, and so much more.\n\n \n\nMembers of the University community and the public are cordially invited to join the conversation.\n\n \n\nLSE is a world-leading social science specialist university\, awarded University of the Year 2025 and ranked 1st in London and the UK in 2025 and 2026.\n\n \n\nUNILAG is one of the highly esteemed universities in Africa. For over 6 decades\, UNILAG has provided qualitative and research-oriented education to Nigerians and all those who have entered its domain in search of knowledge.
URL:https://unilag.edu.ng/event/unilag-hosts-lses-global-goals-roundtables-march-18/
LOCATION:UNILAG Design Studio\, Faculty of Social Sciences\, Nigeria
CATEGORIES:Internationalisation
ATTACH;FMTTYPE=image/jpeg:https://unilag.edu.ng/wp-content/uploads/2026/03/UNILAG-Hosts-LSEs-Global-Goals-Roundtables-March-18.jpeg
END:VEVENT
BEGIN:VEVENT
DTSTART;TZID=Africa/Lagos:20260422T100000
DTEND;TZID=Africa/Lagos:20260422T170000
DTSTAMP:20260421T180604
CREATED:20260420T173357Z
LAST-MODIFIED:20260420T173357Z
UID:72548-1776852000-1776877200@unilag.edu.ng
SUMMARY:UNILAG IADS Hosts 2026 Malaria Day Seminar\, April 22
DESCRIPTION:The Gender\, Culture and Identity Research Cluster of the Institute of African and Diaspora Studies\, University of Lagos (IADS\, UNILAG) will host a one-day seminar in commemoration of the 2026 Malaria Day as follows: \nDate: Wednesday\, April 22\, 2026\nTime: 10 a.m\nVenue: IADS Gallery\, J.P. Clark Building\, University of Lagos\nTheme: The Place of Traditional Medicine in the Fight Against Malaria \nThe seminar will focus on the current state of malaria prevention in Nigeria\, with particular emphasis on the role of indigenous knowledge systems in combating the disease. \nMembers of the University Community and general public are cordially invited.
URL:https://unilag.edu.ng/event/unilag-iads-hosts-2026-malaria-day-seminar-april-22/
LOCATION:Institute of African and Diaspora Studies (IADS) Gallery\, J.P. Clark Building\, UNILAG\, Nigeria
CATEGORIES:UNILAG General Events
ATTACH;FMTTYPE=image/jpeg:https://unilag.edu.ng/wp-content/uploads/2026/04/Important-Notice-Maroon.jpg
END:VEVENT
BEGIN:VEVENT
DTSTART;TZID=Africa/Lagos:20260422T160000
DTEND;TZID=Africa/Lagos:20260422T170000
DTSTAMP:20260421T180604
CREATED:20260420T125406Z
LAST-MODIFIED:20260420T125717Z
UID:72519-1776873600-1776877200@unilag.edu.ng
SUMMARY:Professor Bello Delivers 12th Inaugural Lecture\, April 22
DESCRIPTION:Professor Akeem Olajide Bello of the Department of Public Law\, Faculty of Law\, University of Lagos will deliver the 12th Inaugural Lecture of the 2025/2026 Academic Session (458th in the series) on April 22\, 2026 at4:00 p.m. (Guests are to be seated by 3:45 p.m.) at the J.F. Ade. Ajayi (Main) Auditorium. \n\n\n\nThe Vice-Chancellor\, Professor Folasade T. Ogunsola\, OON\, FAS\, will preside over the Lecture titled: “Law As An Instrument of Social Engineering – A Scholar’s Contributions To Criminal Law And Criminal Justice Reforms In Nigeria.” \n\n\n\nMembers of the University Community and general public are cordially invited. \n\n\n\nYou can also join virtually via Zoom: https://us02web.zoom.us/j/88396878569?pwd=5Ek4ZHnSmt762bWmqa2oEgZdXUFCLL.1 \n\n\n\nMeeting ID: 883 9687 8569 Passcode: 724233 \n\n\n\n 
URL:https://unilag.edu.ng/event/professor-bello-delivers-12th-inaugural-lecture-april-22/
LOCATION:J.F. Ade. Ajayi Auditorium\, UNILAG\, Akoka\, Lagos\, 101017\, Nigeria
CATEGORIES:Inaugural Lecture
ATTACH;FMTTYPE=image/jpeg:https://unilag.edu.ng/wp-content/uploads/2026/04/WhatsApp-Image-2026-04-17-at-15.05.21.jpeg
END:VEVENT
BEGIN:VEVENT
DTSTART;TZID=Africa/Lagos:20260423T090000
DTEND;TZID=Africa/Lagos:20260423T170000
DTSTAMP:20260421T180604
CREATED:20260421T143506Z
LAST-MODIFIED:20260421T143506Z
UID:72561-1776934800-1776963600@unilag.edu.ng
SUMMARY:UNILAG\, ASLTON Mark World Laboratory Day 2026\, April 23
DESCRIPTION:The D.K. Olukoya Central Research and Reference Laboratories\, University of Lagos (UNILAG)\, in collaboration with the Association of Science Laboratory Technologists of Nigeria (ASLTON)\, Lagos State Chapter\, will mark World Laboratory Day 2026 as follows:\n* Date: Thursday\, April 23\, 2026\n* Time: 9:00 a.m.\n* Venue: Faculty of Life Sciences Board Room\, UNILAG\n* Theme: From Bench to Policy \nThe event will feature a keynote presentation by the Director\, D.K. Olukoya Central Research and Reference Laboratories\, Prof. L. Adams; a technical workshop; lab tour sessions; and other activities. As part of the lab tour\, registered participants will have access to the following laboratories:\n1. Chemical Analysis Laboratory\n2. Life Sciences Laboratory (Molecular Biology Laboratory)\n3. Artificial Intelligence and Robotics Laboratory \nThe event is open to ASLTON members\, laboratory professionals\, and other stakeholders. Participants are required to register to reserve a space via: https://forms.gle/KAjE53Chc8VRAuZF6
URL:https://unilag.edu.ng/event/unilag-aslton-mark-world-laboratory-day-2026-april-23/
LOCATION:Science Complex Boardroom\, UNILAG\, Science Complex Boardoom\, UNILAG\, Akoka Campus.\, Lagos\, Nigeria
ATTACH;FMTTYPE=image/jpeg:https://unilag.edu.ng/wp-content/uploads/2026/04/WhatsApp-Image-2026-04-21-at-1.04.51-PM1.jpeg
END:VEVENT
BEGIN:VEVENT
DTSTART;TZID=Africa/Lagos:20260428T110000
DTEND;TZID=Africa/Lagos:20260428T110000
DTSTAMP:20260421T180604
CREATED:20260420T142359Z
LAST-MODIFIED:20260420T142445Z
UID:72531-1777374000-1777374000@unilag.edu.ng
SUMMARY:UNILAG FACULTY OF PHYSICAL AND EARTH SCIENCES (FPES) HOLDS MONTHLY SEMINAR\, APRIL 28
DESCRIPTION:The Faculty of Physical and Earth Sciences (FPES)\, University of Lagos cordially invites members of the University community and the interested public to its Monthly Seminar Series\, scheduled for Tuesday\, 28th April\, 2026 at 11 am at the Science Complex Boardroom. \nTitled: “Reducing Subsurface Uncertainties in Hydrocarbon Prospecting: Quantitative Approaches and Insights”\, the seminar will be facilitated by a Senior Lecturer in the Department of Geosciences\, Dr. Oluwakemi Yemisi Adeogun.
URL:https://unilag.edu.ng/event/unilag-faculty-of-physical-and-earth-sciences-fpes-holds-monthly-seminar-april-22/
LOCATION:Science Complex Boardroom\, UNILAG\, Science Complex Boardoom\, UNILAG\, Akoka Campus.\, Lagos\, Nigeria
ATTACH;FMTTYPE=image/jpeg:https://unilag.edu.ng/wp-content/uploads/2026/04/FPES-SEMINAR.jpg
END:VEVENT
BEGIN:VEVENT
DTSTART;TZID=Africa/Lagos:20260428T120000
DTEND;TZID=Africa/Lagos:20260428T170000
DTSTAMP:20260421T180604
CREATED:20260421T160525Z
LAST-MODIFIED:20260421T160525Z
UID:72567-1777377600-1777395600@unilag.edu.ng
SUMMARY:DLI Holds Monthly Seminar Series\, April 28
DESCRIPTION:The Distance Learning Institute (DLI)\, University of Lagos (UNILAG) will hold the March edition of its seminar series on Tuesday\, April 28\, 2026 at 12:00 noon at DLI Boardroom\, Red Bricks\, UNILAG . \nThe Seminar titled: Teachers Awareness of Dyslexia among Lower and Upper Basic School Students in Oyo State\, Nigeria \, will be delivered by Professor Temitope Abiodun Balogun. \nMembers of the University Community are cordially invited to participate physically or virtually via Zoom Meeting ID: 842 3302 9846 and Passcode: 664334.
URL:https://unilag.edu.ng/event/dli-holds-monthly-seminar-series-april-28/
CATEGORIES:Distance Learning Institute Seminar Series
ATTACH;FMTTYPE=image/png:https://unilag.edu.ng/wp-content/uploads/2026/01/Upcoming-Events-2026-UNILAG-Web-Maroon.png
END:VEVENT
BEGIN:VEVENT
DTSTART;TZID=Africa/Lagos:20260514T100000
DTEND;TZID=Africa/Lagos:20260514T170000
DTSTAMP:20260421T180604
CREATED:20260421T143712Z
LAST-MODIFIED:20260421T143712Z
UID:72563-1778752800-1778778000@unilag.edu.ng
SUMMARY:UNILAG Hosts Workshop on Mental Health and Stress Management for Men\, May 14
DESCRIPTION:A workshop on Mental Health and Stress Management for Men will hold on Thursday\, May 14\, 2026 at 10:00 am at the J.F. Ade Ajayi (Main) Auditorium Foyer\, University of Lagos (UNILAG). \nWith the theme: Mental Health and Stress Management for Men in Academic Environment\, the Workshop is an initiative of HearMan Initiative founded by Elder Oluropo Adedini of the University’s Bursary Department. It will feature Dr. Olugbenga Owoeye (Medical Director\, Federal Neuro-Psychiatric Hospital\, Yaba) as Guest Speaker. \nMembers of the University Community and general public are cordially invited.
URL:https://unilag.edu.ng/event/unilag-hosts-workshop-on-mental-health-and-stress-management-for-men-may-14/
CATEGORIES:UNILAG General Events,Workshop
ATTACH;FMTTYPE=image/jpeg:https://unilag.edu.ng/wp-content/uploads/2026/04/WhatsApp-Image-2026-04-21-at-1.04.51-PM1.jpeg
END:VEVENT
END:VCALENDAR